BEGIN:VCALENDAR
VERSION:2.0
PRODID:-//New Jersey Botanical Garden - ECPv4.9.13//NONSGML v1.0//EN
CALSCALE:GREGORIAN
METHOD:PUBLISH
X-WR-CALNAME:New Jersey Botanical Garden
X-ORIGINAL-URL:https://njbg.org
X-WR-CALDESC:Events for New Jersey Botanical Garden
BEGIN:VTIMEZONE
TZID:America/New_York
BEGIN:DAYLIGHT
TZOFFSETFROM:-0500
TZOFFSETTO:-0400
TZNAME:EDT
DTSTART:20260308T070000
END:DAYLIGHT
BEGIN:STANDARD
TZOFFSETFROM:-0400
TZOFFSETTO:-0500
TZNAME:EST
DTSTART:20261101T060000
END:STANDARD
END:VTIMEZONE
BEGIN:VEVENT
DTSTART;TZID=America/New_York:20260222T130000
DTEND;TZID=America/New_York:20260222T140000
DTSTAMP:20260422T161959
CREATED:20240222T132454Z
LAST-MODIFIED:20260220T191812Z
UID:5403-1771765200-1771768800@njbg.org
SUMMARY:Audubon: Attracting Hummingbirds to Your Yard
DESCRIPTION:\n\n\nCanceled \n\n\n\n\n\n\n\nDon Torino\, President of the Bergen County Audubon Society will give an indoor presentation on how to attract these magnificent flying jewels to your backyard. You’ll learn about the symbiotic relationship between hummingbirds and the native plants they depend upon. Carriage House Visitor Center. FREE. \n\n\n\n\n\n\n\n\n\n\n
URL:https://njbg.org/event/audubon-attracting-nesting-birds/
CATEGORIES:Educational Talks and Presentations,Upcoming Events
ATTACH;FMTTYPE=image/jpeg:https://njbg.org/wp-content/uploads/Hummingbird-CC.jpeg
END:VEVENT
END:VCALENDAR