BEGIN:VCALENDAR
VERSION:2.0
PRODID:-//New Jersey Botanical Garden - ECPv4.9.13//NONSGML v1.0//EN
CALSCALE:GREGORIAN
METHOD:PUBLISH
X-WR-CALNAME:New Jersey Botanical Garden
X-ORIGINAL-URL:https://njbg.org
X-WR-CALDESC:Events for New Jersey Botanical Garden
BEGIN:VTIMEZONE
TZID:America/New_York
BEGIN:DAYLIGHT
TZOFFSETFROM:-0500
TZOFFSETTO:-0400
TZNAME:EDT
DTSTART:20250309T070000
END:DAYLIGHT
BEGIN:STANDARD
TZOFFSETFROM:-0400
TZOFFSETTO:-0500
TZNAME:EST
DTSTART:20251102T060000
END:STANDARD
END:VTIMEZONE
BEGIN:VEVENT
DTSTART;TZID=America/New_York:20250810T130000
DTEND;TZID=America/New_York:20250810T143000
DTSTAMP:20260422T190749
CREATED:20210706T182259Z
LAST-MODIFIED:20250722T202518Z
UID:1981-1754830800-1754836200@njbg.org
SUMMARY:Audubon Butterfly Walk
DESCRIPTION:\n\n\nAudobon Butterfly Walk\n\n\n\n\n\n\nJoin the Bergen County Audubon Society to walk the gardens and fields looking for the many butterflies that visit NJBG. We’ll identify the butterflies and discuss host plants and nectar sources crucial for their survival. Learn more about the endangered Monarch butterfly and how you can help save it. \nWear comfortable shoes\, dress for the weather\, and bring binoculars if you have them. Meet at the Carriage House Visitor Center. Rain cancels. \n\n\n\n\nThis program is free and is sponsored by NJBG and the Bergen County Audubon Society. \n\n\n\n
URL:https://njbg.org/event/audubon-butterfly-walk/
CATEGORIES:Upcoming Events
ATTACH;FMTTYPE=image/jpeg:https://njbg.org/wp-content/uploads/2019/07/DSC05487-phlox-butterfly-e1630101162440.jpg
END:VEVENT
END:VCALENDAR