BEGIN:VCALENDAR
VERSION:2.0
PRODID:-//New Jersey Botanical Garden - ECPv4.9.13//NONSGML v1.0//EN
CALSCALE:GREGORIAN
METHOD:PUBLISH
X-WR-CALNAME:New Jersey Botanical Garden
X-ORIGINAL-URL:https://njbg.org
X-WR-CALDESC:Events for New Jersey Botanical Garden
BEGIN:VTIMEZONE
TZID:America/New_York
BEGIN:DAYLIGHT
TZOFFSETFROM:-0500
TZOFFSETTO:-0400
TZNAME:EDT
DTSTART:20250309T070000
END:DAYLIGHT
BEGIN:STANDARD
TZOFFSETFROM:-0400
TZOFFSETTO:-0500
TZNAME:EST
DTSTART:20251102T060000
END:STANDARD
END:VTIMEZONE
BEGIN:VEVENT
DTSTART;TZID=America/New_York:20250725T183000
DTEND;TZID=America/New_York:20250725T200000
DTSTAMP:20260422T222537
CREATED:20250716T002106Z
LAST-MODIFIED:20250724T163850Z
UID:6009-1753468200-1753473600@njbg.org
SUMMARY:Concert: Billy 6 Show
DESCRIPTION:\n\n\nbilly6.com \n\n\n\n\n\n\n\nExperience the timeless classics of Billy Joel from a premier tribute band. \n\n\n\n$5 pp donation requestedSponsored by Ringwood Wine & Liquors (Ringwood) and Skyline Podiatry (Ringwood) \n\n\n\n\n\n\n\n\n\n\n
URL:https://njbg.org/event/concert-billy-6-show/
CATEGORIES:Upcoming Events
ATTACH;FMTTYPE=image/png:https://njbg.org/wp-content/uploads/Screenshot-2025-07-15-at-8.34.21 PM.png
END:VEVENT
END:VCALENDAR