BEGIN:VCALENDAR
VERSION:2.0
PRODID:-//New Jersey Botanical Garden - ECPv4.9.13//NONSGML v1.0//EN
CALSCALE:GREGORIAN
METHOD:PUBLISH
X-WR-CALNAME:New Jersey Botanical Garden
X-ORIGINAL-URL:https://njbg.org
X-WR-CALDESC:Events for New Jersey Botanical Garden
BEGIN:VTIMEZONE
TZID:America/New_York
BEGIN:DAYLIGHT
TZOFFSETFROM:-0500
TZOFFSETTO:-0400
TZNAME:EDT
DTSTART:20250309T070000
END:DAYLIGHT
BEGIN:STANDARD
TZOFFSETFROM:-0400
TZOFFSETTO:-0500
TZNAME:EST
DTSTART:20251102T060000
END:STANDARD
END:VTIMEZONE
BEGIN:VEVENT
DTSTART;TZID=America/New_York:20250808T183000
DTEND;TZID=America/New_York:20250808T193000
DTSTAMP:20260422T222640
CREATED:20210726T174050Z
LAST-MODIFIED:20250803T234328Z
UID:4003-1754677800-1754681400@njbg.org
SUMMARY:Concert: Loretta Hagen
DESCRIPTION:\n\n\n \n\n\n\n\n\n\n\n\n\n A dynamic folk music star\, her lilting sound will charm you. Bring a lawn chair; rain cancels. $5 per person donation requested.  \n\n\n\nlorettahagen.com \n\n\n\n \n\n\n\nSponsored by ShopRite/Inserra Supermarkets \n\n\n\n\n\n\n\n\n
URL:https://njbg.org/event/concert-loretta-hagen/
CATEGORIES:Upcoming Events
ATTACH;FMTTYPE=image/png:https://njbg.org/wp-content/uploads/Screen-Shot-2021-07-26-at-1.29.12-PM-e1627321023731.png
END:VEVENT
END:VCALENDAR