BEGIN:VCALENDAR
VERSION:2.0
PRODID:-//New Jersey Botanical Garden - ECPv4.9.13//NONSGML v1.0//EN
CALSCALE:GREGORIAN
METHOD:PUBLISH
X-WR-CALNAME:New Jersey Botanical Garden
X-ORIGINAL-URL:https://njbg.org
X-WR-CALDESC:Events for New Jersey Botanical Garden
BEGIN:VTIMEZONE
TZID:America/New_York
BEGIN:DAYLIGHT
TZOFFSETFROM:-0500
TZOFFSETTO:-0400
TZNAME:EDT
DTSTART:20250309T070000
END:DAYLIGHT
BEGIN:STANDARD
TZOFFSETFROM:-0400
TZOFFSETTO:-0500
TZNAME:EST
DTSTART:20251102T060000
END:STANDARD
END:VTIMEZONE
BEGIN:VEVENT
DTSTART;TZID=America/New_York:20250913T130000
DTEND;TZID=America/New_York:20250913T143000
DTSTAMP:20260422T190459
CREATED:20210827T204843Z
LAST-MODIFIED:20250831T195406Z
UID:4070-1757768400-1757773800@njbg.org
SUMMARY:Fall Wildflower Walk
DESCRIPTION:\n\n\nBog Pond Stones\n\n\n\nJoin the Wildflower Team to check out the magical sights and sounds of fall in the woodlands of the Wildflower Garden!  Wear sturdy shoes\, meet at the Carriage House. Rain cancels.  Fee: $5; children under 12 free \n\n\n\n \n\n\n\n \n\n\n\n \n\n\n\n \n\n\n\n \n\n\n\n\n\n\n\n\n\n\n
URL:https://njbg.org/event/fall-wildflower-walk/
CATEGORIES:Hikes,Upcoming Events
ATTACH;FMTTYPE=image/jpeg:https://njbg.org/wp-content/uploads/wildflower-gdn-Bog-Pond-stones-1.jpg
END:VEVENT
END:VCALENDAR