BEGIN:VCALENDAR
VERSION:2.0
PRODID:-//New Jersey Botanical Garden - ECPv4.9.13//NONSGML v1.0//EN
CALSCALE:GREGORIAN
METHOD:PUBLISH
X-WR-CALNAME:New Jersey Botanical Garden
X-ORIGINAL-URL:https://njbg.org
X-WR-CALDESC:Events for New Jersey Botanical Garden
BEGIN:VTIMEZONE
TZID:America/New_York
BEGIN:DAYLIGHT
TZOFFSETFROM:-0500
TZOFFSETTO:-0400
TZNAME:EDT
DTSTART:20250309T070000
END:DAYLIGHT
BEGIN:STANDARD
TZOFFSETFROM:-0400
TZOFFSETTO:-0500
TZNAME:EST
DTSTART:20251102T060000
END:STANDARD
END:VTIMEZONE
BEGIN:VEVENT
DTSTART;TZID=America/New_York:20250511T140000
DTEND;TZID=America/New_York:20251026T150000
DTSTAMP:20260422T203809
CREATED:20210516T201359Z
LAST-MODIFIED:20251014T194751Z
UID:3826-1746972000-1761490800@njbg.org
SUMMARY:Guided Garden Tours
DESCRIPTION:\n\n\nThere will be no Garden Tour on Sunday\, October 12. \n\n\n\n\n\n\n\nMay through October on Sunday afternoons \n\n\n\nKnowledgeable NJBG docents take you on a tour of what’sblooming around the Botanical Garden. These free tours will be available every Sunday afternoon at 2 PM until the end of October. Meet at the Carriage House. Wear sturdy shoes. Rain cancels. \n\n\n\n\n\n\n\n\n\n\n
URL:https://njbg.org/event/guided-garden-tour/
CATEGORIES:Educational Talks and Presentations,Upcoming Events
ATTACH;FMTTYPE=image/jpeg:https://njbg.org/wp-content/uploads/annual-gdn-summer-banner.jpg
END:VEVENT
END:VCALENDAR