BEGIN:VCALENDAR
VERSION:2.0
PRODID:-//New Jersey Botanical Garden - ECPv4.9.13//NONSGML v1.0//EN
CALSCALE:GREGORIAN
METHOD:PUBLISH
X-WR-CALNAME:New Jersey Botanical Garden
X-ORIGINAL-URL:https://njbg.org
X-WR-CALDESC:Events for New Jersey Botanical Garden
BEGIN:VTIMEZONE
TZID:America/New_York
BEGIN:DAYLIGHT
TZOFFSETFROM:-0500
TZOFFSETTO:-0400
TZNAME:EDT
DTSTART:20260308T070000
END:DAYLIGHT
BEGIN:STANDARD
TZOFFSETFROM:-0400
TZOFFSETTO:-0500
TZNAME:EST
DTSTART:20261101T060000
END:STANDARD
END:VTIMEZONE
BEGIN:VEVENT
DTSTART;TZID=America/New_York:20260418T130000
DTEND;TZID=America/New_York:20260418T140000
DTSTAMP:20260422T192704
CREATED:20230321T151013Z
LAST-MODIFIED:20260411T215128Z
UID:4965-1776517200-1776520800@njbg.org
SUMMARY:Wildflower Walk
DESCRIPTION:\n\n\nThis walk has been CANCELED for April 18th. \n\n\n\n \n\n\n\nBog Pond Stones\n\n\n\nSpring is peeking out everywhere! Join Darlene in checking out the early bloomers in the woodlands of the Wildflower Garden!  \n\n\n\nWear sturdy shoes\, meet at the Carriage House. Rain cancels. $5 fee; children under 12 free. \n\n\n\n \n\n\n\n \n\n\n\n\n\n\n\n\n\n\n
URL:https://njbg.org/event/spring-wildflower-walk-2/
CATEGORIES:Hikes,Upcoming Events
ATTACH;FMTTYPE=image/jpeg:https://njbg.org/wp-content/uploads/wildflower-gdn-Bog-Pond-stones-1.jpg
END:VEVENT
END:VCALENDAR