BEGIN:VCALENDAR
VERSION:2.0
PRODID:-//New Jersey Botanical Garden - ECPv4.9.13//NONSGML v1.0//EN
CALSCALE:GREGORIAN
METHOD:PUBLISH
X-WR-CALNAME:New Jersey Botanical Garden
X-ORIGINAL-URL:https://njbg.org
X-WR-CALDESC:Events for New Jersey Botanical Garden
BEGIN:VTIMEZONE
TZID:America/New_York
BEGIN:DAYLIGHT
TZOFFSETFROM:-0500
TZOFFSETTO:-0400
TZNAME:EDT
DTSTART:20250309T070000
END:DAYLIGHT
BEGIN:STANDARD
TZOFFSETFROM:-0400
TZOFFSETTO:-0500
TZNAME:EST
DTSTART:20251102T060000
END:STANDARD
END:VTIMEZONE
BEGIN:VEVENT
DTSTART;TZID=America/New_York:20250809T130000
DTEND;TZID=America/New_York:20250809T143000
DTSTAMP:20260422T203912
CREATED:20250711T022346Z
LAST-MODIFIED:20250803T234034Z
UID:5991-1754744400-1754749800@njbg.org
SUMMARY:The Secret Language of Flowers
DESCRIPTION:\n\n\n\n\n\n\nJourney through the history of the secret language of flowers with Linda Karen\, who’ll walk you through the garden of floral meanings. She will demonstrate how to and everyone will create a Tussie Mussie\, Nose Gay\, or Posy Bouquet using fresh flowers and trimmings. Reservations required. Limited to 25 attendees. \n\n\n\nMember – $20\nMember\n\n\n\nNon-Member – $25 \nNon-Member\n\n\n\nFee: $20 members\, $25 nonmembers. \n\n\n\n\n\n\n\n\n\n\n
URL:https://njbg.org/event/the-secret-life-of-flowers/
CATEGORIES:Educational Talks and Presentations,Upcoming Events
ATTACH;FMTTYPE=image/jpeg:https://njbg.org/wp-content/uploads/secret-life-flowers.jpeg
END:VEVENT
END:VCALENDAR