BEGIN:VCALENDAR
VERSION:2.0
PRODID:-//New Jersey Botanical Garden - ECPv4.9.13//NONSGML v1.0//EN
CALSCALE:GREGORIAN
METHOD:PUBLISH
X-WR-CALNAME:New Jersey Botanical Garden
X-ORIGINAL-URL:https://njbg.org
X-WR-CALDESC:Events for New Jersey Botanical Garden
BEGIN:VTIMEZONE
TZID:America/New_York
BEGIN:DAYLIGHT
TZOFFSETFROM:-0500
TZOFFSETTO:-0400
TZNAME:EDT
DTSTART:20260308T070000
END:DAYLIGHT
BEGIN:STANDARD
TZOFFSETFROM:-0400
TZOFFSETTO:-0500
TZNAME:EST
DTSTART:20261101T060000
END:STANDARD
END:VTIMEZONE
BEGIN:VEVENT
DTSTART;TZID=America/New_York:20260425T120000
DTEND;TZID=America/New_York:20260425T160000
DTSTAMP:20260420T010223
CREATED:20250504T190125Z
LAST-MODIFIED:20260401T214500Z
UID:5919-1777118400-1777132800@njbg.org
SUMMARY:Lilac Care Workshop
DESCRIPTION:\n\n\n \n\n\n\nLilac (close up)\n\n\n\nWorkshop. Enjoy the lush lilac sights and scents as you work with us in the Lilac Garden. You’ll get a hands-on lesson in lilac pruning\, dead-heading and general care from dedicated volunteers. Bring gloves and small tools (trowels\, pruners\, kneeling pads) if you have them\, and a drink. Meet at the Carriage House. FREE \n\n\n\n \n\n\n\nFree. Donations welcome. \n\n\n\n\n\n\n\n\n\n\n
URL:https://njbg.org/event/lilac-garden-splender/
CATEGORIES:Upcoming Events
ATTACH;FMTTYPE=image/jpeg:https://njbg.org/wp-content/uploads/2019/07/DSC04617-Lilac-Grdn-e1775079719849.jpg
END:VEVENT
BEGIN:VEVENT
DTSTART;TZID=America/New_York:20260425T130000
DTEND;TZID=America/New_York:20260425T143000
DTSTAMP:20260420T010223
CREATED:20210426T171759Z
LAST-MODIFIED:20260401T211641Z
UID:3794-1777122000-1777127400@njbg.org
SUMMARY:Spring Wildflower Walk
DESCRIPTION:\n \n\n\n\n\n\n\n\n\n\n \n\n\n\nJoin Darlene Nowak in checking out the many delightful spring bloomers in the woodlands of the Wildflower Garden! Wear sturdy shoes\, meet at the Carriage House. Rain cancels. 10 AM. $5 fee; children under 12 free. \n\n\n\n \n\n\n\n\n\n\n\n \n\n\n\n \n\n\n\n \n\n\n\ncancels. $5 fee; children under 12 free. \n\n\n\n \n\n\n\n\n\n\n\n\n\n\n\n \n
URL:https://njbg.org/event/spring-wildflower-walk/
CATEGORIES:Hikes,Upcoming Events
ATTACH;FMTTYPE=image/jpeg:https://njbg.org/wp-content/uploads/Early-Spring-Wilflower-Walk-copy.jpeg
END:VEVENT
BEGIN:VEVENT
DTSTART;TZID=America/New_York:20260426T100000
DTEND;TZID=America/New_York:20260426T113000
DTSTAMP:20260420T010223
CREATED:20191019T135028Z
LAST-MODIFIED:20260402T112346Z
UID:2221-1777197600-1777203000@njbg.org
SUMMARY:Audubon: Spring Nature Walk
DESCRIPTION:\n\n\nAudobon Autumn Nature Walk\n\n\n\nDon Torino of the Bergen County Audubon Society will lead a walk through the gardens to look for visiting spring birds\, as well as the many different species that inhabit our region. Meet at the Carriage House Visitor Center\, 10 AM. Free. Rain cancels. \n\n\n\n \n\n\n\n\n\n\n\n\n\n\n\n\n\n\n
URL:https://njbg.org/event/audubon-autumn-nature-walk/
CATEGORIES:Hikes,Upcoming Events
ATTACH;FMTTYPE=image/jpeg:https://njbg.org/wp-content/uploads/slider-audobon-autum-walk.jpg
END:VEVENT
BEGIN:VEVENT
DTSTART;TZID=America/New_York:20260501T163000
DTEND;TZID=America/New_York:20260503T160000
DTSTAMP:20260420T010223
CREATED:20210422T002446Z
LAST-MODIFIED:20260408T234418Z
UID:3687-1777653000-1777824000@njbg.org
SUMMARY:NJBG 2026 Plant Sale
DESCRIPTION:\n \n\n\n\n\n\nMEMBERS ONLY May 1\, Friday 4:30 PM – 7 PM \n\n\n\nOpen to the Public: May 2\, Saturday\, 9:30 PM – 4 PM\, May 3\, Sunday\, 9:30AM – 4 PM \n\n\n\n \n\n\n\n \n\n\n\n \n\n\n\n\nWe are pleased to extend our annual plant sale.  \n\n\n\n\n\nWe have some perennials\, annuals\, vegetables\, herbs\, trees\, shrubs\, vines\, ground covers\, potted plants and hanging baskets.  \n\n\n\n \n\n\n\n\n\n\n\n\n \n\n\n\nAdmission: Free \n\n\n\n \n\n\n\n\n\n\n\n  \n\n\n\n\n\n\n\n\n\n\n\n\n\n\n
URL:https://njbg.org/event/plant-sale-2021-members/
CATEGORIES:Upcoming Events
ATTACH;FMTTYPE=image/jpeg:https://njbg.org/wp-content/uploads/2018_PlantSale_01.jpg
END:VEVENT
END:VCALENDAR